BEGIN:VCALENDAR
VERSION:2.0
PRODID:-//MYTECHMAG - ECPv6.3.5//NONSGML v1.0//EN
CALSCALE:GREGORIAN
METHOD:PUBLISH
X-ORIGINAL-URL:https://www.mytechmag.com
X-WR-CALDESC:Events for MYTECHMAG
REFRESH-INTERVAL;VALUE=DURATION:PT1H
X-Robots-Tag:noindex
X-PUBLISHED-TTL:PT1H
BEGIN:VTIMEZONE
TZID:Europe/London
BEGIN:DAYLIGHT
TZOFFSETFROM:+0000
TZOFFSETTO:+0100
TZNAME:BST
DTSTART:20230326T010000
END:DAYLIGHT
BEGIN:STANDARD
TZOFFSETFROM:+0100
TZOFFSETTO:+0000
TZNAME:GMT
DTSTART:20231029T010000
END:STANDARD
TZID:America/Halifax
BEGIN:DAYLIGHT
TZOFFSETFROM:-0400
TZOFFSETTO:-0300
TZNAME:ADT
DTSTART:20230312T060000
END:DAYLIGHT
BEGIN:STANDARD
TZOFFSETFROM:-0300
TZOFFSETTO:-0400
TZNAME:AST
DTSTART:20231105T050000
END:STANDARD
END:VTIMEZONE
BEGIN:VEVENT
DTSTART;TZID=Europe/London:20230207T123000
DTEND;TZID=Europe/London:20230207T150000
DTSTAMP:20260423T054416
CREATED:20230109T111312Z
LAST-MODIFIED:20230109T111911Z
UID:13516-1675773000-1675782000@www.mytechmag.com
SUMMARY:How To Boost Construction Resilience With Process Automation
DESCRIPTION:Lunch Event: How To Boost Construction Resilience With Process Automation\nFree Lunch & Learn Event\nFebruary 7th 2023 @ 12:30pm\nThe Ivy\, 1-5 West St\, London\nWhen: Feb 7th\, 2023 (Registration – 12:30 pm | start – 1:00 pm | close – 3:00 pm)\nWhere: The Ivy\, 1-5 West St\, London\, WC2H 9NQ\nWho: C-Level\, IT decision-makers\, improvement managers\, operation managers\, digital transformation managers\, heads of business\, etc. in the construction sector \nFlowForma invites you to an exclusive lunch and learn event at The Ivy\, London\, on February 7th\, 2023. Join our process digitalisation experts and your peers to hear how construction firms are addressing key business challenges head-on with widespread automation in 2023. \nWhy Attend?  \n\nShare your process challenges with our digitalisation experts and get on-the-spot advice\nLearn how agile and mobile processes are key to process efficiency\nDiscover how FlowForma Process Automation can support your compliance with The Golden Thread\, as per the Building Safety Act 2022\nLearn how a shift towards data-driven decision-making improves project performance\, avoids overruns\, and improves project outcomes\nUncover how automation can help overcome skill shortage challenges\nExperience the potential of FlowForma firsthand with a personalised demonstration
URL:https://www.mytechmag.com/event/how-to-boost-construction-resilience-with-process-automation/
CATEGORIES:construction
END:VEVENT
BEGIN:VEVENT
DTSTART;VALUE=DATE:20230321
DTEND;VALUE=DATE:20230322
DTSTAMP:20260423T054416
CREATED:20230315T164225Z
LAST-MODIFIED:20230315T164745Z
UID:13698-1679356800-1679443199@www.mytechmag.com
SUMMARY:DIGITIZE A BUSINESS PROCESS IN UNDER 1 HOUR!
DESCRIPTION:We invite you to take part in our upcoming virtual workshop\, where you will see a live process of your choosing built in under 1 hour! \nVirtual Workshop: \nDate: Tuesday\, March 21\, 2023 @ 4 pm GMT / 12 pm EDT\nDuration: 1 hour \nFlowForma invites you to take part in an upcoming interactive workshop\, where FlowForma’s Product Specialists will digitize a business process of your choice in less than 1 hour using the FlowForma Process Automation tool. \nAttendees are encouraged to vote for the process they would like to see automated and to share any process challenges when registering. \nYou can choose from any of the below processes: \n\nPermit To Dig\nExpenses Process\nHot Works Permit\nTravel Request\nChange Request\n\nJoin this Workshop to:\n– Share your current process challenges with our experts and receive advice and tips \n– See a process as chosen by our live audience digitized in under 1 hour \n\n\n\n\n– See some of the newest features of the FlowForma Process Automation tool \n\n\n\n\n\n\nWe Can Help You On Your Journey To No Code Business Process Management.\nTry FlowForma for 14 days or book a demo with one of our experts to see how.\n\n\n                              Book a Demo
URL:https://www.mytechmag.com/event/digitize-a-business-process-in-under-1-hour/
CATEGORIES:construction
END:VEVENT
END:VCALENDAR