BEGIN:VCALENDAR
VERSION:2.0
PRODID:-//MYTECHMAG - ECPv6.3.5//NONSGML v1.0//EN
CALSCALE:GREGORIAN
METHOD:PUBLISH
X-ORIGINAL-URL:https://www.mytechmag.com
X-WR-CALDESC:Events for MYTECHMAG
REFRESH-INTERVAL;VALUE=DURATION:PT1H
X-Robots-Tag:noindex
X-PUBLISHED-TTL:PT1H
BEGIN:VTIMEZONE
TZID:Pacific/Easter
BEGIN:STANDARD
TZOFFSETFROM:-0500
TZOFFSETTO:-0600
TZNAME:-06
DTSTART:20220403T030000
END:STANDARD
BEGIN:DAYLIGHT
TZOFFSETFROM:-0600
TZOFFSETTO:-0500
TZNAME:-05
DTSTART:20220911T040000
END:DAYLIGHT
END:VTIMEZONE
BEGIN:VEVENT
DTSTART;VALUE=DATE:20221208
DTEND;VALUE=DATE:20221209
DTSTAMP:20260423T035642
CREATED:20221118T092816Z
LAST-MODIFIED:20221118T104150Z
UID:13378-1670457600-1670543999@www.mytechmag.com
SUMMARY:VIRTUAL CONSTRUCTION WORKSHOP
DESCRIPTION:We invite you to take part in our upcoming virtual workshop where you will see a construction process built out live in less than an hour. \nDate: December 8\, 2022 @ 4 pm GMT / 11 am EST\nDuration: 1 hour \nWe invite those in the construction industry to take part in an exclusive interactive workshop where FlowForma’s CEO\, Olivia Bushe and Pre-Sales Consultant\, David Shanley will digitize a construction process of your choice in less than 1 hour using the FlowForma Process Automation tool. \nJoin this workshop to:\n\nShare your current process challenges with our experts and receive advice and tips\nDiscover how to engage external parties and stakeholders into your business processes\nSee a construction process of the audiences choice digitized in under 1 hour\nGet exclusive access to the FlowForma Construction Trial Environment including the process built during the live workshop and additional process accelerators\nLearn how easy FlowForma Process Automation can be integrated with your existing systems\n\nAttendees are encouraged to vote for the construction process they would like to see automated and to share any process challenges when registering. \nYou can choose from any of the below processes:\n\nPermit To Dig\nNew Joiner\nHot Works Permit\nIncident Management\n\nMeet Your Hosts :\nOlivia Bushe\, CEO\, FlowForma: Olivia is CEO at FlowForma\, spending the last number of years leading and overseeing all aspects of the marketing department\, influencing FlowForma’s roadmap with marketing driven innovation. Olivia is passionate about revolutionizing the traditional BPM space through an innovative no code approach. \nDavid Shanley\, Pre-Sales Consultant\, FlowForma: David is a highly accomplished IT professional who has significant experience in providing clients in the construction sector with analysis\, design\, and implementation of business development solutions to help firms automate and streamline their business processes. \nWant To Go Paperless & Digitize Your Construction Task ?\nTry FlowForma Process Automation for 14 days or book a demo with one of our experts to discover how.\n                                  Book A Demo
URL:https://www.mytechmag.com/event/virtual-construction-workshop/
CATEGORIES:construction
ATTACH;FMTTYPE=image/jpeg:https://www.mytechmag.com/wp-content/uploads/2022/11/Construction-image.jpg
END:VEVENT
END:VCALENDAR